BEGIN:VCALENDAR
VERSION:2.0
PRODID:-//CDU-Kreisverband Wandsbek - ECPv6.15.20//NONSGML v1.0//EN
CALSCALE:GREGORIAN
METHOD:PUBLISH
X-WR-CALNAME:CDU-Kreisverband Wandsbek
X-ORIGINAL-URL:https://www.cdu-kvwandsbek.de
X-WR-CALDESC:Veranstaltungen für CDU-Kreisverband Wandsbek
REFRESH-INTERVAL;VALUE=DURATION:PT1H
X-Robots-Tag:noindex
X-PUBLISHED-TTL:PT1H
BEGIN:VTIMEZONE
TZID:UTC
BEGIN:STANDARD
TZOFFSETFROM:+0000
TZOFFSETTO:+0000
TZNAME:UTC
DTSTART:20250101T000000
END:STANDARD
END:VTIMEZONE
BEGIN:VEVENT
DTSTART;TZID=UTC:20260323T193000
DTEND;TZID=UTC:20260323T210000
DTSTAMP:20260420T014536
CREATED:20260219T135223Z
LAST-MODIFIED:20260219T135223Z
UID:10000635-1774294200-1774299600@www.cdu-kvwandsbek.de
SUMMARY:Soll sich Hamburg für Olympia bewerben? CDU-Ortsverband Bramfeld/Steilshoop informiert über Hintergründe\, Ablauf und Fakten
DESCRIPTION:Viele Hamburgerinnen und Hamburger wissen bislang noch gar nicht\, dass in absehbarer Zeit eine wichtige Entscheidung ansteht: Es wird eine Abstimmung darüber geben\, ob sich Hamburg um die Olympischen Spiele bewerben soll. Worum geht es dabei genau? Warum gibt es diese Abstimmung? Und was würde eine Bewerbung konkret für unsere Stadt – und auch für unsere Stadtteile wie Bramfeld und Steilshoop – bedeuten? Genau hier setzt der CDU-Ortsverband Bramfeld/Steilshoop an. Mit einer Informationsveranstaltung möchten wir frühzeitig Orientierung geben und die wichtigsten Fragen verständlich einordnen.
URL:https://www.cdu-kvwandsbek.de/veranstaltung/soll-sich-hamburg-fuer-olympia-bewerben-cdu-ortsverband-bramfeld-steilshoop-informiert-ueber-hintergruende-ablauf-und-fakten/
LOCATION:Vereinsgaststätte BSV\, Ellernreihe 88\, 22179 Hamburg\, Ellernreihe 88\, Hamburg\, Hamburg\, 22179\, Germany
CATEGORIES:Ortsverband Bramfeld/Steilshoop
ATTACH;FMTTYPE=image/jpeg:https://www.cdu-kvwandsbek.de/wp-content/uploads/2026/02/Olympia.jpg
END:VEVENT
BEGIN:VEVENT
DTSTART;TZID=UTC:20260327T173000
DTEND;TZID=UTC:20260327T190000
DTSTAMP:20260420T014536
CREATED:20260226T054158Z
LAST-MODIFIED:20260226T054158Z
UID:10000636-1774632600-1774638000@www.cdu-kvwandsbek.de
SUMMARY:CDU Jenfeld - Infostand
DESCRIPTION:
URL:https://www.cdu-kvwandsbek.de/veranstaltung/cdu-jenfeld-infostand-25/
CATEGORIES:Kreisverband Wandsbek,Ortsverband Jenfeld
ORGANIZER;CN="CDU-Ortsverband Jenfeld":MAILTO:info@cdu-jenfeld.de
END:VEVENT
END:VCALENDAR