BEGIN:VCALENDAR
VERSION:2.0
PRODID:-//CDU-Kreisverband Wandsbek - ECPv6.15.20//NONSGML v1.0//EN
CALSCALE:GREGORIAN
METHOD:PUBLISH
X-ORIGINAL-URL:https://www.cdu-kvwandsbek.de
X-WR-CALDESC:Veranstaltungen für CDU-Kreisverband Wandsbek
REFRESH-INTERVAL;VALUE=DURATION:PT1H
X-Robots-Tag:noindex
X-PUBLISHED-TTL:PT1H
BEGIN:VTIMEZONE
TZID:UTC
BEGIN:STANDARD
TZOFFSETFROM:+0000
TZOFFSETTO:+0000
TZNAME:UTC
DTSTART:20230101T000000
END:STANDARD
END:VTIMEZONE
BEGIN:VEVENT
DTSTART;TZID=UTC:20241128T173000
DTEND;TZID=UTC:20241128T210000
DTSTAMP:20260420T233117
CREATED:20240929T090249Z
LAST-MODIFIED:20241014T164226Z
UID:10000497-1732815000-1732827600@www.cdu-kvwandsbek.de
SUMMARY:Haxenessen der CDU Jenfeld  mit Sebastian Ehlers
DESCRIPTION:Haxenessen mit Polit-Gast \nTraditionell wird im Spätherbst eine Haxen serviert. Die CDU Jenfeld organisiert wie schon seit Jahrzehnten auch in diesem Jahr ein solches Event. Dieses Jahr ist es am 28.November soweit. Neu wird lediglich das Restaurant sein. \nDer Jenfelder CDU-Bezirksabgeordnete Benjamin Welling freut sich über den diesjährigen Gast: „Wir werden den parlamentarischen Geschäftsführer der CDU-Landtagsfraktion in unserem norddeutschen Nachbarland Mecklenburg-Vorpommern begrüßen. Sebastian Ehlers ist seit drei Jahren in dieser Funktion. Er ist zudem seit fünf Jahre Stadtpräsident in Schwerin. Auch die CDU in Mecklenburg-Vorpommern kämpft demnächst wie wir um Platz eins. Auch in Schwerin heißt die Gegnerin SPD mit einer stark auf sich selbst fokussierten Regierungsspitze. Es wird ein spannender Abend mit Diskussionen über das gemeinsame Ziel\, die Führungspositionen unserer Bundesländer wieder mit der CDU zu besetzen.“ Sebastian Ehlers sei darüber hinaus im MV-Landtag Vorsitzender des Parlamentarischen Untersuchungsausschusses zur umstrittenen Klimaschutzstiftung\, die seit Jahren wegen ihrer Russlandnähe in der Kritik stehe\, so Benjamin Welling weiter. \nKommen Sie vorbei zum traditionellen Haxenessen der CDU Jenfeld am Donnerstag\, 28.11.2024 ab 17:30 Uhr\, diesmal im Hofbräuhaus Hamburg Speersort. Bitte melden sie sich bis 20. November an unter der Emailadresse events@cdu-jenfeld.de.
URL:https://www.cdu-kvwandsbek.de/veranstaltung/haxenessen-der-cdu-jenfeld-mit-sebastian-ehlers/
LOCATION:Hofbräuhaus Hamburg Speersort\, Speersort 1\, Hamburg\, Hamburg\, 20095\, Germany
CATEGORIES:Kreisverband Wandsbek,Ortsverband Jenfeld
ORGANIZER;CN="CDU-Ortsverband Jenfeld":MAILTO:info@cdu-jenfeld.de
END:VEVENT
BEGIN:VEVENT
DTSTART;TZID=UTC:20241129T160000
DTEND;TZID=UTC:20241129T170000
DTSTAMP:20260420T233117
CREATED:20241116T135816Z
LAST-MODIFIED:20241116T135816Z
UID:10000534-1732896000-1732899600@www.cdu-kvwandsbek.de
SUMMARY:Ralf Niedmers - Bürgersprechstunde - Was Wandsbek wurmt!
DESCRIPTION:Wie können wir die Lebensqualität in unseren Wandsbeker Stadtteilen weiter verbessern? Was läuft gut\, was nicht? Welche Themen bewegen die Wandsbeker?\nOb Mobilität\, Sicherheit\, Bauplanung und Grünflächen oder unsere Schulen und Freizeiteinrichtungen – Ich freue mich auf eine spannende Diskussion und Ihre Anregungen. \nKommen Sie vorbei\, um Hamburg gemeinsam fit für die Zukunft zu machen.
URL:https://www.cdu-kvwandsbek.de/veranstaltung/ralf-niedmers-buergersprechstunde-was-wandsbek-wurmt/
LOCATION:CDU-Kreisgeschäftsstelle\, Am Neumarkt 38b\, Hamburg\, Hamburg\, 22041\, Germany
CATEGORIES:Kreisverband Wandsbek,Ortsverband Wandsbek
ORGANIZER;CN="CDU-Ortsverband Wandsbek":MAILTO:ralf.niedmers@cduhamburg.de
END:VEVENT
END:VCALENDAR