BEGIN:VCALENDAR
VERSION:2.0
PRODID:-//CDU-Kreisverband Wandsbek - ECPv6.15.20//NONSGML v1.0//EN
CALSCALE:GREGORIAN
METHOD:PUBLISH
X-WR-CALNAME:CDU-Kreisverband Wandsbek
X-ORIGINAL-URL:https://www.cdu-kvwandsbek.de
X-WR-CALDESC:Veranstaltungen für CDU-Kreisverband Wandsbek
REFRESH-INTERVAL;VALUE=DURATION:PT1H
X-Robots-Tag:noindex
X-PUBLISHED-TTL:PT1H
BEGIN:VTIMEZONE
TZID:UTC
BEGIN:STANDARD
TZOFFSETFROM:+0000
TZOFFSETTO:+0000
TZNAME:UTC
DTSTART:20230101T000000
END:STANDARD
END:VTIMEZONE
BEGIN:VEVENT
DTSTART;VALUE=DATE:20240425
DTEND;VALUE=DATE:20240426
DTSTAMP:20260421T041942
CREATED:20240401T220050Z
LAST-MODIFIED:20240401T220050Z
UID:10000483-1714003200-1714089599@www.cdu-kvwandsbek.de
SUMMARY:Girls' Day mit Franziska Hoppermann MdB
DESCRIPTION:Als Bundestagsabgeordnete für Hamburg-Wandsbek lade ich jährlich im Rahmen des Girls‘ Day vor allem Mädchen und junge Frauen nach Berlin in mein Bundestagsbüro ein. In diesem Jahr findet der Aktionstag am 25. April statt. Dann habt ihr die Möglichkeit\, einen Blick hinter die Kulissen der Berliner Politik werfen zu können. \nWolltest du schon immer mal einen Einblick in die Arbeit einer Bundestagsabgeordneten in Berlin bekommen und bist zwischen 14 und 18 Jahren alt? \nDann bewirb dich bis zum 14. April bei mir und schicke eine Mail an franziska.hoppermann@bundestag.de. In deiner Bewerbung solltest du in wenigen Sätzen erklären\, weshalb du auf jeden Fall am Girls‘ Day bei mir im Bundestag teilnehmen möchtest. \nDie Zugfahrt wird von meinem Team organisiert. Für einen Teil der Fahrtkosten sowie des Essens müssen die Teilnehmerinnen selbst aufkommen. Wir werden uns darum bemühen\, dass diese Kosten gering ausfallen. In Berlin werden die Teilnehmerinnen den ganzen Tag von mir und ihrem Team begleitet. \nIch freue mich auf eure Bewerbungen und bis bald in Berlin!
URL:https://www.cdu-kvwandsbek.de/veranstaltung/girls-day-mit-franziska-hoppermann-mdb/
CATEGORIES:Kreisverband Wandsbek,Ortsverband Volksdorf
ATTACH;FMTTYPE=image/jpeg:https://www.cdu-kvwandsbek.de/wp-content/uploads/2024/04/2_NewsletterGirlsDay-cc.jpg
END:VEVENT
BEGIN:VEVENT
DTSTART;TZID=UTC:20240426T100000
DTEND;TZID=UTC:20240426T120000
DTSTAMP:20260421T041942
CREATED:20231219T135719Z
LAST-MODIFIED:20231219T135719Z
UID:10000454-1714125600-1714132800@www.cdu-kvwandsbek.de
SUMMARY:CDU Bramfeld/Steilshoop - Infostand 26.04.2024
DESCRIPTION:26.04.2024 – 10 bis 12 Uhr – Marktplatz Bramfeld\, Herthastraße  – Wir freuen uns auf das Gespräch mit Ihnen!
URL:https://www.cdu-kvwandsbek.de/veranstaltung/cdu-bramfeld-steilshoop-infostand-26-04-2024/
CATEGORIES:Kreisverband Wandsbek,Ortsverband Bramfeld/Steilshoop
ATTACH;FMTTYPE=image/jpeg:https://www.cdu-kvwandsbek.de/wp-content/uploads/2023/12/Infostand-CDU-Bramfeld_Steilshoop_Hamburg_Sandro_Kappe_MdHB-rotated.jpg
END:VEVENT
BEGIN:VEVENT
DTSTART;TZID=UTC:20240426T180000
DTEND;TZID=UTC:20240426T210000
DTSTAMP:20260421T041942
CREATED:20240401T221915Z
LAST-MODIFIED:20240401T221915Z
UID:10000484-1714154400-1714165200@www.cdu-kvwandsbek.de
SUMMARY:Generalsekretär der CDU Deutschlands Dr. Carsten Linnemann zu Gast bei der CDU Oberalster: 26.04.2024 im Forum Alstertal
DESCRIPTION:Bianca Wollenweber\, Vorsitzende der CDU Oberalster\, darf am 26.04.2024 einen ganz besonderen Gast begrüßen: Dr. Carsten Linnemann MdB\, der Generalsekretär der CDU Deutschlands\, kommt ins Forum Alstertal zum Gespräch. Um 19 Uhr geht’s im Kritenbarg 18 los. Wir freuen uns auf Herrn Linnemann\, ein besonderes Gespräch und natürlich auf Sie!
URL:https://www.cdu-kvwandsbek.de/veranstaltung/generalsekretaer-der-cdu-deutschlands-dr-carsten-linnemann-zu-gast-bei-der-cdu-oberalster-26-04-2024-im-forum-alstertal/
CATEGORIES:Kreisverband Wandsbek,Ortsverband Oberalster
ATTACH;FMTTYPE=image/jpeg:https://www.cdu-kvwandsbek.de/wp-content/uploads/2024/04/WhatsApp-Bild-2024-03-26-um-10.57.50_19799e81.jpg
END:VEVENT
BEGIN:VEVENT
DTSTART;TZID=UTC:20240427T100000
DTEND;TZID=UTC:20240427T120000
DTSTAMP:20260421T041942
CREATED:20230909T055737Z
LAST-MODIFIED:20230909T055737Z
UID:10000402-1714212000-1714219200@www.cdu-kvwandsbek.de
SUMMARY:CDU Jenfeld - Infostand
DESCRIPTION:Sie finden den Infostand am 27.04. zwischen 10 und 12 Uhr an der Rodigallee 2\, 22043 Hamburg\, mit dabei sind Axel Kukuk\, Ihr Bezirksabgeordneter\, und Benjamin Welling\, für Sie im Regionalausschuss Kerngebiet.\n\nSie können uns auch gern eine E-Mail schicken unter: info@cdu-jenfeld.de
URL:https://www.cdu-kvwandsbek.de/veranstaltung/cdu-jenfeld-infostand-13/
LOCATION:Rodigallee 2\, Rodigallee 2\, Hamburg\, 22043\, Deutschland
CATEGORIES:Kreisverband Wandsbek,Ortsverband Jenfeld
ORGANIZER;CN="CDU-Ortsverband Jenfeld":MAILTO:info@cdu-jenfeld.de
END:VEVENT
END:VCALENDAR