BEGIN:VCALENDAR
VERSION:2.0
PRODID:-//CDU-Kreisverband Wandsbek - ECPv6.15.20//NONSGML v1.0//EN
CALSCALE:GREGORIAN
METHOD:PUBLISH
X-WR-CALNAME:CDU-Kreisverband Wandsbek
X-ORIGINAL-URL:https://www.cdu-kvwandsbek.de
X-WR-CALDESC:Veranstaltungen für CDU-Kreisverband Wandsbek
REFRESH-INTERVAL;VALUE=DURATION:PT1H
X-Robots-Tag:noindex
X-PUBLISHED-TTL:PT1H
BEGIN:VTIMEZONE
TZID:UTC
BEGIN:STANDARD
TZOFFSETFROM:+0000
TZOFFSETTO:+0000
TZNAME:UTC
DTSTART:20230101T000000
END:STANDARD
END:VTIMEZONE
BEGIN:VEVENT
DTSTART;TZID=UTC:20241119T183000
DTEND;TZID=UTC:20241119T210000
DTSTAMP:20260420T163915
CREATED:20230909T083233Z
LAST-MODIFIED:20241110T062745Z
UID:10000417-1732041000-1732050000@www.cdu-kvwandsbek.de
SUMMARY:CDU Hamburg - Landesparteitag
DESCRIPTION:Sehr geehrte Damen und Herren\, \nim Auftrag des Sitzungsleiters\, Herrn Philip Buse\, und auf Beschluss des Landesvorstandes sowie des Präsidiums des Landesparteitages lade ich Sie hiermit ein zum\nLandesparteitag \nam Dienstag\, den 19. November 2024\, um 18.30 Uhr\,\nin der Berufliche Schule für Medien und Kommunikation\, Eulenkamp 46\, 22049 Hamburg. \nAls Tagesordnung ist vorgesehen:\n1. Eröffnung durch den Sitzungsleiter Philip Buse\n2. Feststellung der ordnungsgemäßen Ladung und Bestätigung der Tagesordnung\n3. Bestätigung der Antragskommission\n4. Bericht und Rede des Spitzenkandidaten und Landesvorsitzenden Dennis Thering\n5. Kick-Off des Team Thering\n6. Bericht des Landesgruppenvorsitzenden im Deutschen Bundestag zur aktuellen Bundespolitik\n7. Aussprache\n8. Beratung und Beschluss des Wahlprogrammes für die Bürgerschaftswahl 2025\n9. Weitere Anträge\n10. Verschiedenes\n11. Schlusswort des Spitzenkandidaten Dennis Thering \nMit freundlichen Grüßen \n  \n\nOrganisatorische Hinweise \nEinlass\nDer Einlass erfolgt ab 18 Uhr. \nGäste\nBitte beachten Sie § 6 der Geschäftsordnung des Landesparteitages: „Die Sitzungen des Landespar-teitages sind öffentlich. Durch Beschluss des Landesparteitages kann die Öffentlichkeit ausgeschlos-sen werden. Dies gilt nicht für Mitglieder des Landesverbandes der CDU.“\nBitte weisen Sie interessierte Personen darauf hin\, dass sie die Möglichkeit haben\, bei uns einen Zu-gang zur Sitzung zu beantragen. \nVertretung\nWenn Sie verhindert sein sollten\, bitten wir um schnellstmögliche Mitteilung ausschließlich an den Mitgliederservice (Frau Madina Assaeva) unter der Telefonnummer 040 46854-860 oder per E-Mail an mitgliederservice@cduhamburg.de.\nBitte nennen Sie uns im Vertretungsfall bis spätestens Dienstag\, den 19. November 2024\, 12 Uhr Ihren Ersatzdelegierten.\nBitte beachten Sie dazu § 18 Ziffer 3 unserer Satzung: „Die Vertretung durch einen Ersatzdelegierten muss der Landesgeschäftsstelle vom ordentlichen Delegierten spätestens am Tage der Landespartei-tagssitzung bis 12.00 Uhr schriftlich angezeigt werden. Findet die Sitzung am Vormittag statt\, muss die schriftliche Anzeige bis 15.00 Uhr am Vortage auf der Landesgeschäftsstelle eingehen. Die Infor-mation der Ersatzdelegierten über Ort\, Zeit und Tagesordnung der Sitzungen des Landesparteitages obliegt den ordentlichen Delegierten; eine Einladung durch die Sitzungsleitung erfolgt nicht.“ \nAnreise und Parkmöglichkeiten\nTagungsanschrift: Berufliche Schule für Medien und Kommunikation\, Eulenkamp 46\, 22049 Hamburg. Die nächstgelegene Station des öffentlichen Nahverkehrs ist die U-Bahn-Station „Straßburger Straße“ in einer Entfernung von ca. 300 Metern. Vor Ort sind Parkplätze auf dem Schulparkplatz und dem Parkdeck vorhanden. Die Zufahrt erfolgt ausschließlich über die Straße Eulenkamp. \nBildaufnahmen\nWir weisen darauf hin\, dass im Rahmen dieser Veranstaltung Foto-\, Ton- und Filmaufnahmen erfol-gen. Eine Verwendung der Bilder zu Zwecken der Berichterstattung und/oder Werbung kann auf un-seren Webseiten\, Social-Media-Kanälen\, Printmedien\, Plakaten\, Bewegbildangeboten und in sonsti-gen Medien erfolgen. Diese Aufnahmen sind mit der bildlichen Darstellung von anwesenden Personen verbunden\, wobei die Personenauswahl mehr oder weniger zufällig erfolgt. Mit dem Betreten der Ver-anstaltungsräume erfolgt Ihre Einwilligung zur zeitlich und räumlich unbegrenzten und unentgeltlichen Veröffentlichung in vorstehender Art und Weise\, ohne dass es einer ausdrücklichen Erklärung durch Sie bedarf. Bei Aufnahmen\, bei denen der Fokus auf einzelnen Personen liegt\, haben die Teilnehmer jederzeit das Recht und die Möglichkeit\, den Foto- oder Videografen darauf hinzuweisen\, dass sie nicht aufgenommen werden wollen. Sollte dies nicht möglich sein\, werden wir bei entsprechender Nachricht nachträglich eine Veröffentlichung durch uns unterbinden.
URL:https://www.cdu-kvwandsbek.de/veranstaltung/cdu-hamburg-landesparteitag-5/
LOCATION:Berufliche Schule für Medien
CATEGORIES:Kreisverband Wandsbek,Ortsverband Alstertal,Ortsverband Bramfeld/Steilshoop,Ortsverband Farmsen-Berne,Ortsverband Jenfeld,Ortsverband Oberalster,Ortsverband Rahlstedt,Ortsverband Volksdorf,Ortsverband Wandsbek
ORGANIZER;CN="CDU Hamburg":MAILTO:info@cduhamburg.de
END:VEVENT
END:VCALENDAR