BEGIN:VCALENDAR
VERSION:2.0
PRODID:-//CDU-Kreisverband Wandsbek - ECPv6.15.20//NONSGML v1.0//EN
CALSCALE:GREGORIAN
METHOD:PUBLISH
X-ORIGINAL-URL:https://www.cdu-kvwandsbek.de
X-WR-CALDESC:Veranstaltungen für CDU-Kreisverband Wandsbek
REFRESH-INTERVAL;VALUE=DURATION:PT1H
X-Robots-Tag:noindex
X-PUBLISHED-TTL:PT1H
BEGIN:VTIMEZONE
TZID:UTC
BEGIN:STANDARD
TZOFFSETFROM:+0000
TZOFFSETTO:+0000
TZNAME:UTC
DTSTART:20230101T000000
END:STANDARD
END:VTIMEZONE
BEGIN:VEVENT
DTSTART;TZID=UTC:20240907T100000
DTEND;TZID=UTC:20240907T150000
DTSTAMP:20260420T133004
CREATED:20230909T081945Z
LAST-MODIFIED:20230909T081945Z
UID:10000413-1725703200-1725721200@www.cdu-kvwandsbek.de
SUMMARY:CDU Hamburg - Landesparteitag
DESCRIPTION:
URL:https://www.cdu-kvwandsbek.de/veranstaltung/cdu-hamburg-landesparteitag-4/
CATEGORIES:Kreisverband Wandsbek,Ortsverband Alstertal,Ortsverband Bramfeld/Steilshoop,Ortsverband Farmsen-Berne,Ortsverband Jenfeld,Ortsverband Oberalster,Ortsverband Rahlstedt,Ortsverband Volksdorf,Ortsverband Wandsbek
ORGANIZER;CN="CDU Hamburg":MAILTO:info@cduhamburg.de
END:VEVENT
END:VCALENDAR