BEGIN:VCALENDAR
VERSION:2.0
PRODID:-//CDU-Kreisverband Wandsbek - ECPv6.15.20//NONSGML v1.0//EN
CALSCALE:GREGORIAN
METHOD:PUBLISH
X-ORIGINAL-URL:https://www.cdu-kvwandsbek.de
X-WR-CALDESC:Veranstaltungen für CDU-Kreisverband Wandsbek
REFRESH-INTERVAL;VALUE=DURATION:PT1H
X-Robots-Tag:noindex
X-PUBLISHED-TTL:PT1H
BEGIN:VTIMEZONE
TZID:UTC
BEGIN:STANDARD
TZOFFSETFROM:+0000
TZOFFSETTO:+0000
TZNAME:UTC
DTSTART:20220101T000000
END:STANDARD
END:VTIMEZONE
BEGIN:VEVENT
DTSTART;TZID=UTC:20230220T183000
DTEND;TZID=UTC:20230220T200000
DTSTAMP:20260420T132945
CREATED:20230211T201622Z
LAST-MODIFIED:20230211T201622Z
UID:10000326-1676917800-1676923200@www.cdu-kvwandsbek.de
SUMMARY:Stadtteilkonferenz Jenfeld - Vorstellung Projekt Rodigallee durch die Behörde
DESCRIPTION:20.02.2023\, Beginn: 18:30 Uhr \nStadtteilkonferenz Jenfeld\nOrt: Jenfeld-Haus\, Charlottenburger Str. 1\, 22045 Hamburg\nIm Rahmen der Stadtteilkonferenz Jenfeld wird die Behörde für Verkehr und Mobilitätswende (BVM) am 20.02. 2023 die Planung zur Umgestaltung der Rodigallee vorstellen und aus Sicht der Behörde erläutern.\nDer Umbau der 3 km langen Strecke soll bekanntlich zu einer Reduzierung des motorisierten Individualverkehrs führen\, d.h. Autos sollen im Einzugsbereich und in Hamburg insgesamt weniger genutzt werden. Auch die Stellplätze in der Rodigallee werden in großem Maße abgebaut. Für PKWs wird es auf öffentlichem Grund nur noch wenig Platz geben.
URL:https://www.cdu-kvwandsbek.de/veranstaltung/stadtteilkonferenz-jenfeld-vorstellung-projekt-rodigallee-durch-die-behoerde/
LOCATION:Jenfeld Haus\, Charlottenburger Str. 1\, Hamburg\, Hamburg\, 22045\, Deutschland
CATEGORIES:Kreisverband Wandsbek,Ortsverband Jenfeld
END:VEVENT
END:VCALENDAR